BEGIN:VCALENDAR
VERSION:2.0
PRODID:-//Liz M Lopez - ECPv6.15.20//NONSGML v1.0//EN
CALSCALE:GREGORIAN
METHOD:PUBLISH
X-WR-CALNAME:Liz M Lopez
X-ORIGINAL-URL:https://lizmlopez.com
X-WR-CALDESC:Events for Liz M Lopez
REFRESH-INTERVAL;VALUE=DURATION:PT1H
X-Robots-Tag:noindex
X-PUBLISHED-TTL:PT1H
BEGIN:VTIMEZONE
TZID:America/New_York
BEGIN:DAYLIGHT
TZOFFSETFROM:-0500
TZOFFSETTO:-0400
TZNAME:EDT
DTSTART:20240310T070000
END:DAYLIGHT
BEGIN:STANDARD
TZOFFSETFROM:-0400
TZOFFSETTO:-0500
TZNAME:EST
DTSTART:20241103T060000
END:STANDARD
BEGIN:DAYLIGHT
TZOFFSETFROM:-0500
TZOFFSETTO:-0400
TZNAME:EDT
DTSTART:20250309T070000
END:DAYLIGHT
BEGIN:STANDARD
TZOFFSETFROM:-0400
TZOFFSETTO:-0500
TZNAME:EST
DTSTART:20251102T060000
END:STANDARD
BEGIN:DAYLIGHT
TZOFFSETFROM:-0500
TZOFFSETTO:-0400
TZNAME:EDT
DTSTART:20260308T070000
END:DAYLIGHT
BEGIN:STANDARD
TZOFFSETFROM:-0400
TZOFFSETTO:-0500
TZNAME:EST
DTSTART:20261101T060000
END:STANDARD
END:VTIMEZONE
BEGIN:VEVENT
DTSTART;TZID=America/New_York:20250411T083000
DTEND;TZID=America/New_York:20250411T083000
DTSTAMP:20260426T042145
CREATED:20250408T201245Z
LAST-MODIFIED:20250408T201251Z
UID:100521-1744360200-1744360200@lizmlopez.com
SUMMARY:Career Roundtable for IT Leaders
DESCRIPTION:I am grateful to announce I will be a panel speaker for the SIM – Capital Area Chapter (SIMCAC) career roundtable event on Friday\, April 11th\, 2025 at 8:30 AM Eastern.The SIM Chapter leadership has graciously opened this event to non-members. It you are an IT leader and want insight into how to steer your career in today’s workforce climate\, please register for this event (Link in comments)The panel will also feature:Nina Paul – a highly experienced and well-regarded Mindfulness-Based Stress Reduction (MBSR) Instructor and Health and Wellness Coach with over 12 years of teaching experience in the mindfulness and stress reduction field.Bill Fitzgerald – experienced executive search and recruiting professional\, entrepreneur\, and a Best-Selling Author on Amazon\, providing practical advice\, insights\, and insider knowledge on executive searches and recruiting.As an Executive Career Coach\, I will fill out the trio with insights into making decisions about the future of your career\, branding yourself as a leader\, and executing strategic job searches that lead to roles that you love and pay your worth.
URL:https://lizmlopez.com/event/career-roundtable-for-it-leaders/
LOCATION:Online via Zoom
ATTACH;FMTTYPE=image/jpeg:https://lizmlopez.com/wp-content/uploads/2025/04/d91db002-f1cc-459f-adb2-b7a8421c7c91.jpg
END:VEVENT
END:VCALENDAR