BEGIN:VCALENDAR
VERSION:2.0
PRODID:-//Liz M Lopez - ECPv6.15.20//NONSGML v1.0//EN
CALSCALE:GREGORIAN
METHOD:PUBLISH
X-WR-CALNAME:Liz M Lopez
X-ORIGINAL-URL:https://lizmlopez.com
X-WR-CALDESC:Events for Liz M Lopez
REFRESH-INTERVAL;VALUE=DURATION:PT1H
X-Robots-Tag:noindex
X-PUBLISHED-TTL:PT1H
BEGIN:VTIMEZONE
TZID:America/New_York
BEGIN:DAYLIGHT
TZOFFSETFROM:-0500
TZOFFSETTO:-0400
TZNAME:EDT
DTSTART:20240310T070000
END:DAYLIGHT
BEGIN:STANDARD
TZOFFSETFROM:-0400
TZOFFSETTO:-0500
TZNAME:EST
DTSTART:20241103T060000
END:STANDARD
BEGIN:DAYLIGHT
TZOFFSETFROM:-0500
TZOFFSETTO:-0400
TZNAME:EDT
DTSTART:20250309T070000
END:DAYLIGHT
BEGIN:STANDARD
TZOFFSETFROM:-0400
TZOFFSETTO:-0500
TZNAME:EST
DTSTART:20251102T060000
END:STANDARD
BEGIN:DAYLIGHT
TZOFFSETFROM:-0500
TZOFFSETTO:-0400
TZNAME:EDT
DTSTART:20260308T070000
END:DAYLIGHT
BEGIN:STANDARD
TZOFFSETFROM:-0400
TZOFFSETTO:-0500
TZNAME:EST
DTSTART:20261101T060000
END:STANDARD
END:VTIMEZONE
BEGIN:VTIMEZONE
TZID:America/Halifax
BEGIN:DAYLIGHT
TZOFFSETFROM:-0400
TZOFFSETTO:-0300
TZNAME:ADT
DTSTART:20240310T060000
END:DAYLIGHT
BEGIN:STANDARD
TZOFFSETFROM:-0300
TZOFFSETTO:-0400
TZNAME:AST
DTSTART:20241103T050000
END:STANDARD
BEGIN:DAYLIGHT
TZOFFSETFROM:-0400
TZOFFSETTO:-0300
TZNAME:ADT
DTSTART:20250309T060000
END:DAYLIGHT
BEGIN:STANDARD
TZOFFSETFROM:-0300
TZOFFSETTO:-0400
TZNAME:AST
DTSTART:20251102T050000
END:STANDARD
BEGIN:DAYLIGHT
TZOFFSETFROM:-0400
TZOFFSETTO:-0300
TZNAME:ADT
DTSTART:20260308T060000
END:DAYLIGHT
BEGIN:STANDARD
TZOFFSETFROM:-0300
TZOFFSETTO:-0400
TZNAME:AST
DTSTART:20261101T050000
END:STANDARD
END:VTIMEZONE
BEGIN:VTIMEZONE
TZID:America/Chicago
BEGIN:DAYLIGHT
TZOFFSETFROM:-0600
TZOFFSETTO:-0500
TZNAME:CDT
DTSTART:20230312T080000
END:DAYLIGHT
BEGIN:STANDARD
TZOFFSETFROM:-0500
TZOFFSETTO:-0600
TZNAME:CST
DTSTART:20231105T070000
END:STANDARD
BEGIN:DAYLIGHT
TZOFFSETFROM:-0600
TZOFFSETTO:-0500
TZNAME:CDT
DTSTART:20240310T080000
END:DAYLIGHT
BEGIN:STANDARD
TZOFFSETFROM:-0500
TZOFFSETTO:-0600
TZNAME:CST
DTSTART:20241103T070000
END:STANDARD
BEGIN:DAYLIGHT
TZOFFSETFROM:-0600
TZOFFSETTO:-0500
TZNAME:CDT
DTSTART:20250309T080000
END:DAYLIGHT
BEGIN:STANDARD
TZOFFSETFROM:-0500
TZOFFSETTO:-0600
TZNAME:CST
DTSTART:20251102T070000
END:STANDARD
END:VTIMEZONE
BEGIN:VEVENT
DTSTART;TZID=America/New_York:20250514T113000
DTEND;TZID=America/New_York:20250514T130000
DTSTAMP:20260423T223408
CREATED:20250408T204201Z
LAST-MODIFIED:20260407T142909Z
UID:100541-1747222200-1747227600@lizmlopez.com
SUMMARY:Zoom Mastery Series: Leveraging LinkedIn Part 2
DESCRIPTION:During this 2-part series\, Executive Coach\, Speaker & LinkedIn Master\, Liz M. Lopez will help you leverage LinkedIn to build your business brand and generate revenue.  \nMay 14th: Part 2 \nLeveraging the LinkedIn Marketplace for Revenue Generation – Find Clients on LinkedIn. Learn to effectively showcase your services\, connect with ideal clients\, and drive measurable growth through targeted LinkedIn strategies. Coach Liz will show you how to expand your reach to people willing and able to pay for your services.  \n\nSharing regular updates showcasing your products\, services\, and client success stories.\nDiscovering and boosting your Social Selling Index.\nBuilding your Services Page on the LinkedIn Marketplace\nSubmitting bids to potential clients through LinkedIn Marketplace.\nCollecting and displaying reviews from clients to build trust and attract more business.\nMaximizing organic strategies to grow your connections and engage prospects.
URL:https://lizmlopez.com/event/zoom-mastery-series-leveraging-linkedin-part-2/
LOCATION:Online via Zoom
ATTACH;FMTTYPE=image/jpeg:https://lizmlopez.com/wp-content/uploads/2025/04/ff2dfa29-7e0c-4e09-a12a-16c6a048db72.jpg
END:VEVENT
BEGIN:VEVENT
DTSTART;TZID=America/New_York:20250509T120000
DTEND;TZID=America/New_York:20250509T133000
DTSTAMP:20260423T223408
CREATED:20250509T194359Z
LAST-MODIFIED:20250509T194453Z
UID:100571-1746792000-1746797400@lizmlopez.com
SUMMARY:MASTER THE SHIFT: Resume\, Interview\, Network!
DESCRIPTION:
URL:https://lizmlopez.com/event/master-the-shift-resume-interview-network-2/
LOCATION:Online via Zoom
ATTACH;FMTTYPE=image/jpeg:https://lizmlopez.com/wp-content/uploads/2025/05/Fr-May-9.jpg
END:VEVENT
BEGIN:VEVENT
DTSTART;TZID=America/New_York:20250424T190000
DTEND;TZID=America/New_York:20250424T203000
DTSTAMP:20260423T223408
CREATED:20250509T195009Z
LAST-MODIFIED:20250509T195009Z
UID:100586-1745521200-1745526600@lizmlopez.com
SUMMARY:Interview Mastery - How to Confidently Stand Out In Interviews & Attract Great Job Offers
DESCRIPTION:
URL:https://lizmlopez.com/event/interview-mastery-how-to-confidently-stand-out-in-interviews-attract-great-job-offers/
LOCATION:Online via Zoom
ATTACH;FMTTYPE=image/jpeg:https://lizmlopez.com/wp-content/uploads/2025/05/Th-Apr-24.jpg
END:VEVENT
BEGIN:VEVENT
DTSTART;TZID=America/New_York:20250423T113000
DTEND;TZID=America/New_York:20250423T130000
DTSTAMP:20260423T223408
CREATED:20250408T204038Z
LAST-MODIFIED:20250408T204127Z
UID:100533-1745407800-1745413200@lizmlopez.com
SUMMARY:Zoom Mastery Series: Leveraging LinkedIn Part 1
DESCRIPTION:During this 2-part series\, Executive Coach\, Speaker & LinkedIn Master\, Liz M. Lopez will help you leverage LinkedIn to build your business brand and generate revenue. \nApril 23rd: Part 1 \nBuilding Your Brand and Influence on LinkedIn – Learn to enhance your visibility\, influence\, and client attraction on LinkedIn by strategically showcasing your skills\, experience\, and unique value proposition on the world’s largest professional (and business!) network. Coach Liz will show you how to effectively reach your target audience\, boosting visibility and driving engagement.  \n\nCrafting a compelling headline and summary to optimize the algorithm \nStrategically building your experience history and other sections\nLeveraging recommendations and endorsements\nIdentifying and connecting with key people\nPublishing articles and posts that establish your expertise in your industry.\nSecret strategies and scripts for boosting connections and follows. 
URL:https://lizmlopez.com/event/zoom-mastery-series-leveraging-linkedin-part-1/
LOCATION:Online via Zoom
ATTACH;FMTTYPE=image/jpeg:https://lizmlopez.com/wp-content/uploads/2025/04/ff2dfa29-7e0c-4e09-a12a-16c6a048db72.jpg
END:VEVENT
BEGIN:VEVENT
DTSTART;TZID=America/New_York:20250411T083000
DTEND;TZID=America/New_York:20250411T083000
DTSTAMP:20260423T223408
CREATED:20250408T201245Z
LAST-MODIFIED:20250408T201251Z
UID:100521-1744360200-1744360200@lizmlopez.com
SUMMARY:Career Roundtable for IT Leaders
DESCRIPTION:I am grateful to announce I will be a panel speaker for the SIM – Capital Area Chapter (SIMCAC) career roundtable event on Friday\, April 11th\, 2025 at 8:30 AM Eastern.The SIM Chapter leadership has graciously opened this event to non-members. It you are an IT leader and want insight into how to steer your career in today’s workforce climate\, please register for this event (Link in comments)The panel will also feature:Nina Paul – a highly experienced and well-regarded Mindfulness-Based Stress Reduction (MBSR) Instructor and Health and Wellness Coach with over 12 years of teaching experience in the mindfulness and stress reduction field.Bill Fitzgerald – experienced executive search and recruiting professional\, entrepreneur\, and a Best-Selling Author on Amazon\, providing practical advice\, insights\, and insider knowledge on executive searches and recruiting.As an Executive Career Coach\, I will fill out the trio with insights into making decisions about the future of your career\, branding yourself as a leader\, and executing strategic job searches that lead to roles that you love and pay your worth.
URL:https://lizmlopez.com/event/career-roundtable-for-it-leaders/
LOCATION:Online via Zoom
ATTACH;FMTTYPE=image/jpeg:https://lizmlopez.com/wp-content/uploads/2025/04/d91db002-f1cc-459f-adb2-b7a8421c7c91.jpg
END:VEVENT
BEGIN:VEVENT
DTSTART;TZID=America/Halifax:20250402T183000
DTEND;TZID=America/Halifax:20250402T193000
DTSTAMP:20260423T223408
CREATED:20250408T203544Z
LAST-MODIFIED:20250408T203549Z
UID:100550-1743618600-1743622200@lizmlopez.com
SUMMARY:MASTER THE SHIFT: Resume\, Interview\, Network!
DESCRIPTION:You’re invited to sign up for an engaging\, action-oriented workshop packed with effective strategies to help you stand out in revamping your resume\, mastering interviews\, and building your network. \nJOIN US FOR MASTER THE SHIFT: Resume\, Interview\, Network! 4/2/25 at 6:30 PM | Meet Coach Liz With 15+ years in leadership roles at Capital One\, Verizon\, and PODS\, Liz has coached thousands of professionals through career transitions. She’s the founder of Captivate Your Audience\, a bestselling author\, and a speaker known for her high-impact workshops. Now\, she’s here to help YOU navigate the shift to the private sector like a pro.
URL:https://lizmlopez.com/event/master-the-shift-resume-interview-network/
LOCATION:Online via Zoom
ATTACH;FMTTYPE=image/jpeg:https://lizmlopez.com/wp-content/uploads/2025/04/1fecb698-fc52-410c-9bb6-073f42dfbd6f.jpg
END:VEVENT
BEGIN:VEVENT
DTSTART;TZID=America/Chicago:20240717T193000
DTEND;TZID=America/Chicago:20240717T203000
DTSTAMP:20260423T223408
CREATED:20240701T203107Z
LAST-MODIFIED:20240828T150827Z
UID:100268-1721244600-1721248200@lizmlopez.com
SUMMARY:How to Land a Better Job in a Tough Job Market
DESCRIPTION:Are you struggling to navigate today’s challenging job market? \nAre you wondering if it is the right time to make a career move? \nJoin me for a webinar on How to Land a Better Job in a Tough Job Market! \nI understand how frustrating and exhausting it can be to search for a new role in this job market. I guided dozens of professionals and leaders in landing amazing new jobs in all types of job markets – even after the crash of 2008\, the fiercely competitive growth years\, and through the early stages of the Covid-19 pandemic. \nThis job market is challenging but in very different ways. I can help. In this interactive webinar\, I’ll share my proven strategies to help you stand out and secure a better job\, even in these competitive times. \nWhether you’re looking for a career change\, aiming for a promotion\, or starting fresh in a new industry\, this webinar is tailored to equip you with actionable insights and tools\, including: \n🔍 Understanding the current job market dynamics and trends. \n📝 Crafting a compelling resume that grabs attention. \n🎯 Mastering the art of networking and leveraging LinkedIn effectively. \n🎙️ Nailing job interviews with confidence and authenticity. \n💡 Strategies to stay resilient and motivated throughout your job search journey. \nI create an inclusive\, respectful\, and interactive space for all to learn and share safely. Your career matters\, and I welcome you to join me on Wednesday\, July 17th\, 2024\, at 6:30 PM Eastern via Zoom for this essential webinar. \nLet’s navigate the job market together and make your career goals a reality!
URL:https://lizmlopez.com/event/test-event/
LOCATION:Online via Zoom
CATEGORIES:Career Training,Speaking Engagement
ATTACH;FMTTYPE=image/png:https://lizmlopez.com/wp-content/uploads/2024/07/unnamed.png
END:VEVENT
END:VCALENDAR