BEGIN:VCALENDAR
VERSION:2.0
PRODID:-//Liz M Lopez - ECPv6.15.20//NONSGML v1.0//EN
CALSCALE:GREGORIAN
METHOD:PUBLISH
X-ORIGINAL-URL:https://lizmlopez.com
X-WR-CALDESC:Events for Liz M Lopez
REFRESH-INTERVAL;VALUE=DURATION:PT1H
X-Robots-Tag:noindex
X-PUBLISHED-TTL:PT1H
BEGIN:VTIMEZONE
TZID:America/Chicago
BEGIN:DAYLIGHT
TZOFFSETFROM:-0600
TZOFFSETTO:-0500
TZNAME:CDT
DTSTART:20250309T080000
END:DAYLIGHT
BEGIN:STANDARD
TZOFFSETFROM:-0500
TZOFFSETTO:-0600
TZNAME:CST
DTSTART:20251102T070000
END:STANDARD
BEGIN:DAYLIGHT
TZOFFSETFROM:-0600
TZOFFSETTO:-0500
TZNAME:CDT
DTSTART:20260308T080000
END:DAYLIGHT
BEGIN:STANDARD
TZOFFSETFROM:-0500
TZOFFSETTO:-0600
TZNAME:CST
DTSTART:20261101T070000
END:STANDARD
BEGIN:DAYLIGHT
TZOFFSETFROM:-0600
TZOFFSETTO:-0500
TZNAME:CDT
DTSTART:20270314T080000
END:DAYLIGHT
BEGIN:STANDARD
TZOFFSETFROM:-0500
TZOFFSETTO:-0600
TZNAME:CST
DTSTART:20271107T070000
END:STANDARD
END:VTIMEZONE
BEGIN:VTIMEZONE
TZID:America/New_York
BEGIN:DAYLIGHT
TZOFFSETFROM:-0500
TZOFFSETTO:-0400
TZNAME:EDT
DTSTART:20250309T070000
END:DAYLIGHT
BEGIN:STANDARD
TZOFFSETFROM:-0400
TZOFFSETTO:-0500
TZNAME:EST
DTSTART:20251102T060000
END:STANDARD
BEGIN:DAYLIGHT
TZOFFSETFROM:-0500
TZOFFSETTO:-0400
TZNAME:EDT
DTSTART:20260308T070000
END:DAYLIGHT
BEGIN:STANDARD
TZOFFSETFROM:-0400
TZOFFSETTO:-0500
TZNAME:EST
DTSTART:20261101T060000
END:STANDARD
BEGIN:DAYLIGHT
TZOFFSETFROM:-0500
TZOFFSETTO:-0400
TZNAME:EDT
DTSTART:20270314T070000
END:DAYLIGHT
BEGIN:STANDARD
TZOFFSETFROM:-0400
TZOFFSETTO:-0500
TZNAME:EST
DTSTART:20271107T060000
END:STANDARD
END:VTIMEZONE
BEGIN:VTIMEZONE
TZID:UTC
BEGIN:STANDARD
TZOFFSETFROM:+0000
TZOFFSETTO:+0000
TZNAME:UTC
DTSTART:20250101T000000
END:STANDARD
END:VTIMEZONE
BEGIN:VEVENT
DTSTART;TZID=America/Chicago:20260419T140000
DTEND;TZID=America/Chicago:20260419T150000
DTSTAMP:20260423T234444
CREATED:20260407T141756Z
LAST-MODIFIED:20260410T155428Z
UID:100604-1776607200-1776610800@lizmlopez.com
SUMMARY:Book Launch Party Via Zoom
DESCRIPTION:After years of speaking\, coaching\, and building this message\, my much-awaited book Permission to Dominate Your Success is officially launching on April 19\, 2026. \nAnd I don’t want to just release it quietly. \nI want to celebrate it with you. \nI’m hosting a live virtual book launch party on Zoom where we will all download the book together and send it out into the world with intention\, energy\, and a whole lot of excitement. \nThink of it like a premiere\, but from your couch. Or your office. Or wherever you are in the world. \nThere will be giveaways. There will be stories. There will be a real conversation about what it actually takes to stop holding back and start showing up fully. \nAnd if you cannot attend live\, still register. I will make sure you get what you need to be part of this moment. \nThis book has been years in the making\, and having you there would mean everything to me. \n👉 Register here: https://us02web.zoom.us/meeting/register/_tpuEJnpSHCbRF7sQQJA-g
URL:https://lizmlopez.com/event/book-launch-party-via-zoom/
LOCATION:Online via Zoom
ATTACH;FMTTYPE=image/png:https://lizmlopez.com/wp-content/uploads/2026/04/liz-book-launch-e1775571380916.png
END:VEVENT
BEGIN:VEVENT
DTSTART;TZID=America/New_York:20260423T100000
DTEND;TZID=America/New_York:20260423T140000
DTSTAMP:20260423T234444
CREATED:20260407T153759Z
LAST-MODIFIED:20260410T155520Z
UID:100624-1776938400-1776952800@lizmlopez.com
SUMMARY:Small Business Marketing Summit (SBMS 2026) April 23\, 2026
DESCRIPTION:Thursday\, April 23\, 2026 \nLet’s be honest… \nThere are far too many “free” summits that end up being a series of back-to-back sales pitches. \nAttendees sign up hoping to gain valuable insights—\nand instead\, spend hours being sold to. \nThat’s exactly what Brenda Meller\, Founder of Meller Marketing\, set out to change. \nWhy This Summit Was Created\nBrenda Meller has built a reputation for bringing together smart\, insightful experts (she has a knack for it—you could say). \nWith the Small Business Marketing Summit\, her goal was simple: \nCreate an experience where small business owners receive real\, actionable marketing strategies—without the noise\, fluff\, or pressure. \nThis event was intentionally designed to be different. \nAnd yes… it’s a paid event. \nBecause as Brenda often emphasizes: \n\nWhen people pay\, they pay attention\nWhen they invest\, they’re more likely to take action\nAnd it creates a room full of individuals who are serious about growth\n\n  \nWhat Makes This Summit Different\nInstead of long\, drawn-out presentations\, this summit features 12 expert “Knowledge Sprints”—fast-paced\, 15-minute sessions designed to deliver high-impact strategies. \nNo filler. No rambling. Just focused\, practical insights. \nWhat Attendees Will Receive\nEach $67 ticket includes: \n🥧 12 expert-led knowledge sprints focused on high-impact marketing strategies\n🥧 A Summit Workbook to help build a personalized 2026 marketing plan\n🥧 Speaker breakout sessions for direct Q&A and deeper connection\n🥧 30-day playback access to revisit and implement at your own pace \nThe 2026 Marketing Roadmap\nSESSION 1: THE FOUNDATION\nPamela Lippitt: From Hello to Success – Creating the Network that Works for You\nTom Wells: The Numbers Behind Your Best Marketing Decisions\nElaine Belson\, LCSW: Marketing: Why You’re Overthinking It (and How to Stop)\nDr. Umut Aslan: From Confusion to Clarity: Build Your Ideal Customer Profile \nSESSION 2: MESSAGING & VISIBILITY\nLinda Brubaker\, PhD: Ditch Your “What”\, Sell Their “Why”\nJudi Radice Hays: Build a LinkedIn Presence That Attracts High-Fee Clients\nAnnette Richmond: Less Stress. More Fun. Better Video.\nNancie Steinberg: Free Publicity: Media Coverage Without a PR Agency \nSESSION 3: AUTHENTICITY & MOMENTUM\nLori Jo Vest: Why Your AI-Generated Videos & Copy Aren’t Selling\nChristopher G. Johnson: The 10 Minute Meeting Fix\nLori Vajda: How to Lodge Your Expertise in Your Audience’s Memory\nLiz M. Lopez: Dominating Your Business Success \nClosing Session\n🎤 Brenda Meller: Final Takeaways & Implementation Plan \nWhy $67?\nThe $67 ticket price is intentional. \nIt allows the summit to: \n\nAttract attendees who are ready to invest in their growth\nDeliver a high-quality experience without sales pressure\nCompensate all 12 expert speakers for the value they provide\n\nWho This Is For\nThis summit is designed for small business owners who are ready to: \n\nGain clarity in their marketing strategy\nFocus on what actually works\nWalk away with actionable steps—not just ideas\n\n  \nReady to Join?\nIf you’re looking for a marketing event that respects your time\, delivers real value\, and leaves you with a clear path forward—this is it. \n👉 Register now and secure your spot
URL:https://lizmlopez.com/event/small-business-marketing-summit-sbms-2026-april-23-2026/
ATTACH;FMTTYPE=image/png:https://lizmlopez.com/wp-content/uploads/2026/04/small-business-marketing-e1775575556614.png
END:VEVENT
BEGIN:VEVENT
DTSTART;TZID=UTC:20260506T170000
DTEND;TZID=UTC:20260506T190000
DTSTAMP:20260423T234444
CREATED:20260407T155550Z
LAST-MODIFIED:20260410T155556Z
UID:100639-1778086800-1778094000@lizmlopez.com
SUMMARY:Liz M Lopez at AGC Minneapolis May 6th\, 2026
DESCRIPTION:Dominate Your Success in 2026: Building Success Through Strategic Support \nIn this focused\, high-impact talk\, Coach Liz M. Lopez shares with fellow business owners how real growth happens when success is built with support\, not isolation. Drawing from her book\, Permission to Dominate Your Success\, Coach Liz introduces the powerful concept of Permission to Be Supported and challenges the belief that doing it all alone is a requirement for success. \nIn truth\, going solo in business is exhausting. \nWhen everything depends on your time\, energy\, and constant effort\, both impact and revenue become limited\, often leading to burnout and stalled growth. Sustainable success requires more than hard work; it requires intentional support. \nAttendees will explore how being supported in both life and work creates leverage\, clarity\, and momentum. This session helps participants rethink how they line up people\, resources\, and systems so they can stop carrying everything alone and step into greater influence\, impact\, and growth in 2026. \nKey Topics / Takeaways \n\nLeverage your network — growth accelerates when you make clear\, confident asks that turn relationships into real opportunities.\nLeverage your resources — success expands when you stop doing everything yourself and intentionally use the people\, tools\, and expertise around you.\nLeverage your systems — sustainable growth comes from structures\, routines\, and technology that support your work\, protect your time\, and make it easy for the right prospects to access you.
URL:https://lizmlopez.com/event/liz-m-lopez-agc-may-6/
CATEGORIES:Speaking Engagement
ATTACH;FMTTYPE=image/png:https://lizmlopez.com/wp-content/uploads/2026/04/minneapolis-3-e1775577903956.png
END:VEVENT
END:VCALENDAR